Package: gpuMagic Version: 1.16.0 Command: F:\biocbuild\bbs-3.17-bioc\R\bin\R.exe CMD INSTALL gpuMagic StartedAt: 2023-10-15 16:14:31 -0400 (Sun, 15 Oct 2023) EndedAt: 2023-10-15 16:15:07 -0400 (Sun, 15 Oct 2023) EllapsedTime: 36.5 seconds RetCode: 0 Status: OK