Package: gpuMagic Version: 1.16.0 Command: chmod a+r gpuMagic -R && F:\biocbuild\bbs-3.17-bioc\R\bin\R.exe CMD build --keep-empty-dirs --no-resave-data gpuMagic StartedAt: 2023-10-15 19:39:53 -0400 (Sun, 15 Oct 2023) EndedAt: 2023-10-15 19:40:52 -0400 (Sun, 15 Oct 2023) EllapsedTime: 59.1 seconds RetCode: 0 Status: OK PackageFile: gpuMagic_1.16.0.tar.gz PackageFileSize: 737.5 KiB