Package: gpuMagic Version: 1.16.0 Command: /Library/Frameworks/R.framework/Resources/bin/R CMD check --install=check:gpuMagic.install-out.txt --library=/Library/Frameworks/R.framework/Resources/library --no-vignettes --timings gpuMagic_1.16.0.tar.gz StartedAt: 2023-10-16 02:21:51 -0400 (Mon, 16 Oct 2023) EndedAt: 2023-10-16 02:26:45 -0400 (Mon, 16 Oct 2023) EllapsedTime: 294.2 seconds RetCode: 0 Status: OK CheckDir: gpuMagic.Rcheck Warnings: 0