Package: gpuMagic Version: 1.16.0 Command: rm -rf gpuMagic.buildbin-libdir && mkdir gpuMagic.buildbin-libdir && /Users/biocbuild/BBS/utils/build-universal.sh gpuMagic_1.16.0.tar.gz /Library/Frameworks/R.framework/Resources/bin/R gpuMagic.buildbin-libdir StartedAt: 2023-10-16 09:30:40 -0400 (Mon, 16 Oct 2023) EndedAt: 2023-10-16 09:31:56 -0400 (Mon, 16 Oct 2023) EllapsedTime: 75.8 seconds RetCode: 0 Status: OK PackageFile: gpuMagic_1.16.0.tgz PackageFileSize: 1.486 MiB