Package: goProfiles Version: 1.62.0 Command: /Library/Frameworks/R.framework/Resources/bin/R CMD check --install=check:goProfiles.install-out.txt --library=/Library/Frameworks/R.framework/Resources/library --no-vignettes --timings goProfiles_1.62.0.tar.gz StartedAt: 2023-10-16 02:18:39 -0400 (Mon, 16 Oct 2023) EndedAt: 2023-10-16 02:25:33 -0400 (Mon, 16 Oct 2023) EllapsedTime: 413.5 seconds RetCode: 0 Status: OK CheckDir: goProfiles.Rcheck Warnings: 0