Package: goProfiles Version: 1.62.0 Command: /Library/Frameworks/R.framework/Resources/bin/R CMD build --keep-empty-dirs --no-resave-data goProfiles StartedAt: 2023-10-15 18:39:06 -0400 (Sun, 15 Oct 2023) EndedAt: 2023-10-15 18:40:47 -0400 (Sun, 15 Oct 2023) EllapsedTime: 100.9 seconds RetCode: 0 Status: OK PackageFile: goProfiles_1.62.0.tar.gz PackageFileSize: 288.4 KiB