Package: gmoviz Version: 1.12.0 Command: rm -rf gmoviz.buildbin-libdir && mkdir gmoviz.buildbin-libdir && F:\biocbuild\bbs-3.17-bioc\R\bin\R.exe CMD INSTALL --build --library=gmoviz.buildbin-libdir gmoviz_1.12.0.tar.gz StartedAt: 2023-10-16 08:53:18 -0400 (Mon, 16 Oct 2023) EndedAt: 2023-10-16 08:54:03 -0400 (Mon, 16 Oct 2023) EllapsedTime: 45.0 seconds RetCode: 0 Status: OK PackageFile: gmoviz_1.12.0.zip PackageFileSize: 4.765 MiB