Package: gmoviz Version: 1.12.0 Command: /home/biocbuild/bbs-3.17-bioc/R/bin/R CMD build --keep-empty-dirs --no-resave-data gmoviz StartedAt: 2023-10-15 16:58:05 -0400 (Sun, 15 Oct 2023) EndedAt: 2023-10-15 16:59:45 -0400 (Sun, 15 Oct 2023) EllapsedTime: 99.5 seconds RetCode: 0 Status: OK PackageFile: gmoviz_1.12.0.tar.gz PackageFileSize: 4.214 MiB