Package: globaltest Version: 5.54.0 Command: F:\biocbuild\bbs-3.17-bioc\R\bin\R.exe CMD INSTALL globaltest StartedAt: 2023-10-15 16:41:54 -0400 (Sun, 15 Oct 2023) EndedAt: 2023-10-15 16:42:27 -0400 (Sun, 15 Oct 2023) EllapsedTime: 32.6 seconds RetCode: 0 Status: OK