Package: globaltest Version: 5.54.0 Command: chmod a+r globaltest -R && F:\biocbuild\bbs-3.17-bioc\R\bin\R.exe CMD build --keep-empty-dirs --no-resave-data globaltest StartedAt: 2023-10-15 19:35:01 -0400 (Sun, 15 Oct 2023) EndedAt: 2023-10-15 19:38:40 -0400 (Sun, 15 Oct 2023) EllapsedTime: 219.3 seconds RetCode: 0 Status: OK PackageFile: globaltest_5.54.0.tar.gz PackageFileSize: 564.1 KiB