Package: globaltest Version: 5.54.0 Command: rm -rf globaltest.buildbin-libdir && mkdir globaltest.buildbin-libdir && F:\biocbuild\bbs-3.17-bioc\R\bin\R.exe CMD INSTALL --build --library=globaltest.buildbin-libdir globaltest_5.54.0.tar.gz StartedAt: 2023-10-16 08:53:12 -0400 (Mon, 16 Oct 2023) EndedAt: 2023-10-16 08:53:44 -0400 (Mon, 16 Oct 2023) EllapsedTime: 31.4 seconds RetCode: 0 Status: OK PackageFile: globaltest_5.54.0.zip PackageFileSize: 1.128 MiB