Package: globaltest Version: 5.54.0 Command: /home/biocbuild/bbs-3.17-bioc/R/bin/R CMD check --install=check:globaltest.install-out.txt --library=/home/biocbuild/bbs-3.17-bioc/R/site-library --timings globaltest_5.54.0.tar.gz StartedAt: 2023-10-15 21:43:43 -0400 (Sun, 15 Oct 2023) EndedAt: 2023-10-15 21:48:57 -0400 (Sun, 15 Oct 2023) EllapsedTime: 313.3 seconds RetCode: 0 Status: OK CheckDir: globaltest.Rcheck Warnings: 0