Package: globaltest Version: 5.54.0 Command: /Library/Frameworks/R.framework/Resources/bin/R CMD check --install=check:globaltest.install-out.txt --library=/Library/Frameworks/R.framework/Resources/library --no-vignettes --timings globaltest_5.54.0.tar.gz StartedAt: 2023-10-16 02:17:18 -0400 (Mon, 16 Oct 2023) EndedAt: 2023-10-16 02:23:04 -0400 (Mon, 16 Oct 2023) EllapsedTime: 346.4 seconds RetCode: 0 Status: OK CheckDir: globaltest.Rcheck Warnings: 0