Package: globaltest Version: 5.54.0 Command: /Library/Frameworks/R.framework/Resources/bin/R CMD build --keep-empty-dirs --no-resave-data globaltest StartedAt: 2023-10-15 18:37:49 -0400 (Sun, 15 Oct 2023) EndedAt: 2023-10-15 18:43:47 -0400 (Sun, 15 Oct 2023) EllapsedTime: 357.8 seconds RetCode: 0 Status: OK PackageFile: globaltest_5.54.0.tar.gz PackageFileSize: 559.7 KiB