Package: globaltest Version: 5.54.0 Command: rm -rf globaltest.buildbin-libdir && mkdir globaltest.buildbin-libdir && /Users/biocbuild/BBS/utils/build-universal.sh globaltest_5.54.0.tar.gz /Library/Frameworks/R.framework/Resources/bin/R globaltest.buildbin-libdir StartedAt: 2023-10-16 09:30:03 -0400 (Mon, 16 Oct 2023) EndedAt: 2023-10-16 09:31:40 -0400 (Mon, 16 Oct 2023) EllapsedTime: 96.7 seconds RetCode: 0 Status: OK PackageFile: globaltest_5.54.0.tgz PackageFileSize: 1.124 MiB