Package: glmSparseNet Version: 1.18.0 Command: rm -rf glmSparseNet.buildbin-libdir && mkdir glmSparseNet.buildbin-libdir && /Users/biocbuild/BBS/utils/build-universal.sh glmSparseNet_1.18.0.tar.gz /Library/Frameworks/R.framework/Resources/bin/R glmSparseNet.buildbin-libdir StartedAt: 2023-06-12 10:11:33 -0400 (Mon, 12 Jun 2023) EndedAt: 2023-06-12 10:12:58 -0400 (Mon, 12 Jun 2023) EllapsedTime: 85.0 seconds RetCode: 0 Status: OK PackageFile: glmSparseNet_1.18.0.tgz PackageFileSize: 2.776 MiB