Package: glmGamPoi Version: 1.12.2 Command: F:\biocbuild\bbs-3.17-bioc\R\bin\R.exe CMD check --no-multiarch --install=check:glmGamPoi.install-out.txt --library=F:\biocbuild\bbs-3.17-bioc\R\library --no-vignettes --timings glmGamPoi_1.12.2.tar.gz StartedAt: 2023-10-16 02:42:07 -0400 (Mon, 16 Oct 2023) EndedAt: 2023-10-16 02:45:32 -0400 (Mon, 16 Oct 2023) EllapsedTime: 205.4 seconds RetCode: 1 Status: ERROR CheckDir: glmGamPoi.Rcheck Warnings: NA