Package: glmGamPoi Version: 1.12.2 Command: chmod a+r glmGamPoi -R && F:\biocbuild\bbs-3.17-bioc\R\bin\R.exe CMD build --keep-empty-dirs --no-resave-data glmGamPoi StartedAt: 2023-10-15 19:34:44 -0400 (Sun, 15 Oct 2023) EndedAt: 2023-10-15 19:46:36 -0400 (Sun, 15 Oct 2023) EllapsedTime: 711.4 seconds RetCode: 0 Status: OK PackageFile: glmGamPoi_1.12.2.tar.gz PackageFileSize: 1.673 MiB