Package: glmGamPoi Version: 1.12.2 Command: rm -rf glmGamPoi.buildbin-libdir && mkdir glmGamPoi.buildbin-libdir && F:\biocbuild\bbs-3.17-bioc\R\bin\R.exe CMD INSTALL --build --library=glmGamPoi.buildbin-libdir glmGamPoi_1.12.2.tar.gz StartedAt: 2023-10-16 08:53:03 -0400 (Mon, 16 Oct 2023) EndedAt: 2023-10-16 08:54:36 -0400 (Mon, 16 Oct 2023) EllapsedTime: 93.1 seconds RetCode: 0 Status: OK PackageFile: glmGamPoi_1.12.2.zip PackageFileSize: 1.801 MiB