Package: glmGamPoi Version: 1.12.2 Command: /home/biocbuild/bbs-3.17-bioc/R/bin/R CMD INSTALL glmGamPoi StartedAt: 2023-10-15 15:12:34 -0400 (Sun, 15 Oct 2023) EndedAt: 2023-10-15 15:13:46 -0400 (Sun, 15 Oct 2023) EllapsedTime: 72.2 seconds RetCode: 0 Status: OK