Package: glmGamPoi Version: 1.12.2 Command: /home/biocbuild/bbs-3.17-bioc/R/bin/R CMD check --install=check:glmGamPoi.install-out.txt --library=/home/biocbuild/bbs-3.17-bioc/R/site-library --timings glmGamPoi_1.12.2.tar.gz StartedAt: 2023-10-15 21:43:22 -0400 (Sun, 15 Oct 2023) EndedAt: 2023-10-15 21:52:47 -0400 (Sun, 15 Oct 2023) EllapsedTime: 564.5 seconds RetCode: 0 Status: OK CheckDir: glmGamPoi.Rcheck Warnings: 0