Package: girafe Version: 1.52.0 Command: chmod a+r girafe -R && F:\biocbuild\bbs-3.17-bioc\R\bin\R.exe CMD build --keep-empty-dirs --no-resave-data girafe StartedAt: 2023-10-15 19:33:50 -0400 (Sun, 15 Oct 2023) EndedAt: 2023-10-15 19:35:00 -0400 (Sun, 15 Oct 2023) EllapsedTime: 69.6 seconds RetCode: 0 Status: OK PackageFile: girafe_1.52.0.tar.gz PackageFileSize: 1.262 MiB