Package: girafe Version: 1.52.0 Command: /home/biocbuild/bbs-3.17-bioc/R/bin/R CMD check --install=check:girafe.install-out.txt --library=/home/biocbuild/bbs-3.17-bioc/R/site-library --timings girafe_1.52.0.tar.gz StartedAt: 2023-10-15 21:42:43 -0400 (Sun, 15 Oct 2023) EndedAt: 2023-10-15 21:47:26 -0400 (Sun, 15 Oct 2023) EllapsedTime: 282.3 seconds RetCode: 0 Status: OK CheckDir: girafe.Rcheck Warnings: 0