Package: girafe Version: 1.52.0 Command: /Library/Frameworks/R.framework/Resources/bin/R CMD build --keep-empty-dirs --no-resave-data girafe StartedAt: 2023-10-15 18:36:38 -0400 (Sun, 15 Oct 2023) EndedAt: 2023-10-15 18:39:18 -0400 (Sun, 15 Oct 2023) EllapsedTime: 159.5 seconds RetCode: 0 Status: OK PackageFile: girafe_1.52.0.tar.gz PackageFileSize: 1.541 MiB