Package: ggtreeExtra Version: 1.10.0 Command: /home/biocbuild/bbs-3.17-bioc/R/bin/R CMD INSTALL ggtreeExtra StartedAt: 2023-10-15 15:19:54 -0400 (Sun, 15 Oct 2023) EndedAt: 2023-10-15 15:20:00 -0400 (Sun, 15 Oct 2023) EllapsedTime: 5.8 seconds RetCode: 0 Status: OK