Package: ggtreeDendro Version: 1.2.1 Command: /Library/Frameworks/R.framework/Resources/bin/R CMD check --install=check:ggtreeDendro.install-out.txt --library=/Library/Frameworks/R.framework/Resources/library --no-vignettes --timings ggtreeDendro_1.2.1.tar.gz StartedAt: 2023-10-16 02:15:22 -0400 (Mon, 16 Oct 2023) EndedAt: 2023-10-16 02:17:06 -0400 (Mon, 16 Oct 2023) EllapsedTime: 104.0 seconds RetCode: 0 Status: OK CheckDir: ggtreeDendro.Rcheck Warnings: 0