Package: ggtreeDendro Version: 1.2.1 Command: /Library/Frameworks/R.framework/Resources/bin/R CMD build --keep-empty-dirs --no-resave-data ggtreeDendro StartedAt: 2023-10-15 18:36:23 -0400 (Sun, 15 Oct 2023) EndedAt: 2023-10-15 18:36:53 -0400 (Sun, 15 Oct 2023) EllapsedTime: 30.3 seconds RetCode: 0 Status: OK PackageFile: ggtreeDendro_1.2.1.tar.gz PackageFileSize: 296.7 KiB