Package: ggtreeDendro Version: 1.2.1 Command: rm -rf ggtreeDendro.buildbin-libdir && mkdir ggtreeDendro.buildbin-libdir && /Users/biocbuild/BBS/utils/build-universal.sh ggtreeDendro_1.2.1.tar.gz /Library/Frameworks/R.framework/Resources/bin/R ggtreeDendro.buildbin-libdir StartedAt: 2023-10-16 09:29:27 -0400 (Mon, 16 Oct 2023) EndedAt: 2023-10-16 09:29:45 -0400 (Mon, 16 Oct 2023) EllapsedTime: 18.0 seconds RetCode: 0 Status: OK PackageFile: ggtreeDendro_1.2.1.tgz PackageFileSize: 320.4 KiB