Package: ggtree Version: 3.8.2 Command: /home/biocbuild/bbs-3.17-bioc/R/bin/R CMD INSTALL ggtree StartedAt: 2023-10-15 15:17:19 -0400 (Sun, 15 Oct 2023) EndedAt: 2023-10-15 15:17:28 -0400 (Sun, 15 Oct 2023) EllapsedTime: 9.7 seconds RetCode: 0 Status: OK