Package: ggtree Version: 3.8.2 Command: /home/biocbuild/bbs-3.17-bioc/R/bin/R CMD build --keep-empty-dirs --no-resave-data ggtree StartedAt: 2023-10-15 16:57:04 -0400 (Sun, 15 Oct 2023) EndedAt: 2023-10-15 16:57:16 -0400 (Sun, 15 Oct 2023) EllapsedTime: 11.3 seconds RetCode: 0 Status: OK PackageFile: ggtree_3.8.2.tar.gz PackageFileSize: 352.5 KiB