Package: ggspavis Version: 1.6.0 Command: rm -rf ggspavis.buildbin-libdir && mkdir ggspavis.buildbin-libdir && F:\biocbuild\bbs-3.17-bioc\R\bin\R.exe CMD INSTALL --build --library=ggspavis.buildbin-libdir ggspavis_1.6.0.tar.gz StartedAt: 2023-10-16 08:52:40 -0400 (Mon, 16 Oct 2023) EndedAt: 2023-10-16 08:53:16 -0400 (Mon, 16 Oct 2023) EllapsedTime: 36.0 seconds RetCode: 0 Status: OK PackageFile: ggspavis_1.6.0.zip PackageFileSize: 2.103 MiB