Package: ggspavis Version: 1.6.0 Command: /home/biocbuild/bbs-3.17-bioc/R/bin/R CMD build --keep-empty-dirs --no-resave-data ggspavis StartedAt: 2023-10-15 16:57:03 -0400 (Sun, 15 Oct 2023) EndedAt: 2023-10-15 16:58:15 -0400 (Sun, 15 Oct 2023) EllapsedTime: 71.9 seconds RetCode: 0 Status: OK PackageFile: ggspavis_1.6.0.tar.gz PackageFileSize: 3.131 MiB