Package: ggspavis Version: 1.6.0 Command: /Library/Frameworks/R.framework/Resources/bin/R CMD INSTALL ggspavis StartedAt: 2023-10-15 15:38:49 -0400 (Sun, 15 Oct 2023) EndedAt: 2023-10-15 15:40:20 -0400 (Sun, 15 Oct 2023) EllapsedTime: 90.6 seconds RetCode: 0 Status: OK