Package: ggspavis Version: 1.6.0 Command: /Library/Frameworks/R.framework/Resources/bin/R CMD check --install=check:ggspavis.install-out.txt --library=/Library/Frameworks/R.framework/Resources/library --no-vignettes --timings ggspavis_1.6.0.tar.gz StartedAt: 2023-07-13 02:26:30 -0400 (Thu, 13 Jul 2023) EndedAt: 2023-07-13 02:35:56 -0400 (Thu, 13 Jul 2023) EllapsedTime: 566.0 seconds RetCode: 1 Status: ERROR CheckDir: ggspavis.Rcheck Warnings: NA