Package: ggspavis Version: 1.6.0 Command: /Library/Frameworks/R.framework/Resources/bin/R CMD build --keep-empty-dirs --no-resave-data ggspavis StartedAt: 2023-10-15 18:35:52 -0400 (Sun, 15 Oct 2023) EndedAt: 2023-10-15 18:38:15 -0400 (Sun, 15 Oct 2023) EllapsedTime: 142.6 seconds RetCode: 1 Status: ERROR PackageFile: None PackageFileSize: NA