Package: ggmsa Version: 1.6.0 Command: /Library/Frameworks/R.framework/Resources/bin/R CMD INSTALL ggmsa StartedAt: 2023-10-15 15:49:15 -0400 (Sun, 15 Oct 2023) EndedAt: 2023-10-15 15:50:10 -0400 (Sun, 15 Oct 2023) EllapsedTime: 54.4 seconds RetCode: 0 Status: OK