Package: ggcyto Version: 1.28.1 Command: /home/biocbuild/bbs-3.17-bioc/R/bin/R CMD check --install=check:ggcyto.install-out.txt --library=/home/biocbuild/bbs-3.17-bioc/R/site-library --timings ggcyto_1.28.1.tar.gz StartedAt: 2023-10-15 21:41:38 -0400 (Sun, 15 Oct 2023) EndedAt: 2023-10-15 21:45:45 -0400 (Sun, 15 Oct 2023) EllapsedTime: 247.4 seconds RetCode: 0 Status: WARNINGS CheckDir: ggcyto.Rcheck Warnings: 2