Package: ggcyto Version: 1.28.1 Command: /home/biocbuild/bbs-3.17-bioc/R/bin/R CMD build --keep-empty-dirs --no-resave-data ggcyto StartedAt: 2023-10-15 16:56:30 -0400 (Sun, 15 Oct 2023) EndedAt: 2023-10-15 16:58:04 -0400 (Sun, 15 Oct 2023) EllapsedTime: 93.6 seconds RetCode: 0 Status: OK PackageFile: ggcyto_1.28.1.tar.gz PackageFileSize: 20.4 MiB