Package: ggcyto Version: 1.28.1 Command: /Library/Frameworks/R.framework/Resources/bin/R CMD build --keep-empty-dirs --no-resave-data ggcyto StartedAt: 2023-10-15 18:35:26 -0400 (Sun, 15 Oct 2023) EndedAt: 2023-10-15 18:39:30 -0400 (Sun, 15 Oct 2023) EllapsedTime: 244.3 seconds RetCode: 0 Status: OK PackageFile: ggcyto_1.28.1.tar.gz PackageFileSize: 20.84 MiB