Package: ggbio Version: 1.48.0 Command: /Library/Frameworks/R.framework/Resources/bin/R CMD INSTALL ggbio StartedAt: 2023-10-15 15:50:00 -0400 (Sun, 15 Oct 2023) EndedAt: 2023-10-15 15:53:03 -0400 (Sun, 15 Oct 2023) EllapsedTime: 183.1 seconds RetCode: 0 Status: OK