Package: ggbio Version: 1.48.0 Command: /Library/Frameworks/R.framework/Resources/bin/R CMD check --install=check:ggbio.install-out.txt --library=/Library/Frameworks/R.framework/Resources/library --no-vignettes --timings ggbio_1.48.0.tar.gz StartedAt: 2023-10-16 02:13:52 -0400 (Mon, 16 Oct 2023) EndedAt: 2023-10-16 02:41:23 -0400 (Mon, 16 Oct 2023) EllapsedTime: 1651.1 seconds RetCode: 0 Status: WARNINGS CheckDir: ggbio.Rcheck Warnings: 2