Package: geva Version: 1.8.0 Command: F:\biocbuild\bbs-3.17-bioc\R\bin\R.exe CMD check --no-multiarch --install=check:geva.install-out.txt --library=F:\biocbuild\bbs-3.17-bioc\R\library --no-vignettes --timings geva_1.8.0.tar.gz StartedAt: 2023-10-16 02:37:59 -0400 (Mon, 16 Oct 2023) EndedAt: 2023-10-16 02:40:45 -0400 (Mon, 16 Oct 2023) EllapsedTime: 166.8 seconds RetCode: 0 Status: OK CheckDir: geva.Rcheck Warnings: 0