Package: geva Version: 1.8.0 Command: chmod a+r geva -R && F:\biocbuild\bbs-3.17-bioc\R\bin\R.exe CMD build --keep-empty-dirs --no-resave-data geva StartedAt: 2023-10-15 19:31:52 -0400 (Sun, 15 Oct 2023) EndedAt: 2023-10-15 19:34:55 -0400 (Sun, 15 Oct 2023) EllapsedTime: 183.6 seconds RetCode: 0 Status: OK PackageFile: geva_1.8.0.tar.gz PackageFileSize: 1016 KiB