Package: geva Version: 1.8.0 Command: rm -rf geva.buildbin-libdir && mkdir geva.buildbin-libdir && F:\biocbuild\bbs-3.17-bioc\R\bin\R.exe CMD INSTALL --build --library=geva.buildbin-libdir geva_1.8.0.tar.gz StartedAt: 2023-10-16 08:52:26 -0400 (Mon, 16 Oct 2023) EndedAt: 2023-10-16 08:52:45 -0400 (Mon, 16 Oct 2023) EllapsedTime: 19.0 seconds RetCode: 0 Status: OK PackageFile: geva_1.8.0.zip PackageFileSize: 1.45 MiB