Package: geva Version: 1.8.0 Command: /home/biocbuild/bbs-3.17-bioc/R/bin/R CMD INSTALL geva StartedAt: 2023-10-15 15:09:14 -0400 (Sun, 15 Oct 2023) EndedAt: 2023-10-15 15:09:34 -0400 (Sun, 15 Oct 2023) EllapsedTime: 19.9 seconds RetCode: 0 Status: OK