Package: geva Version: 1.8.0 Command: /home/biocbuild/bbs-3.17-bioc/R/bin/R CMD check --install=check:geva.install-out.txt --library=/home/biocbuild/bbs-3.17-bioc/R/site-library --timings geva_1.8.0.tar.gz StartedAt: 2023-10-15 21:40:26 -0400 (Sun, 15 Oct 2023) EndedAt: 2023-10-15 21:44:38 -0400 (Sun, 15 Oct 2023) EllapsedTime: 252.2 seconds RetCode: 0 Status: OK CheckDir: geva.Rcheck Warnings: 0