Package: geva Version: 1.8.0 Command: /Library/Frameworks/R.framework/Resources/bin/R CMD build --keep-empty-dirs --no-resave-data geva StartedAt: 2023-10-15 18:35:10 -0400 (Sun, 15 Oct 2023) EndedAt: 2023-10-15 18:40:28 -0400 (Sun, 15 Oct 2023) EllapsedTime: 317.7 seconds RetCode: 0 Status: OK PackageFile: geva_1.8.0.tar.gz PackageFileSize: 2.201 MiB