Package: geva Version: 1.8.0 Command: rm -rf geva.buildbin-libdir && mkdir geva.buildbin-libdir && /Users/biocbuild/BBS/utils/build-universal.sh geva_1.8.0.tar.gz /Library/Frameworks/R.framework/Resources/bin/R geva.buildbin-libdir StartedAt: 2023-10-16 09:29:10 -0400 (Mon, 16 Oct 2023) EndedAt: 2023-10-16 09:29:35 -0400 (Mon, 16 Oct 2023) EllapsedTime: 25.6 seconds RetCode: 0 Status: OK PackageFile: geva_1.8.0.tgz PackageFileSize: 2.662 MiB