Package: getDEE2 Version: 1.10.0 Command: /Library/Frameworks/R.framework/Resources/bin/R CMD build --keep-empty-dirs --no-resave-data getDEE2 StartedAt: 2023-10-15 18:35:04 -0400 (Sun, 15 Oct 2023) EndedAt: 2023-10-15 18:36:56 -0400 (Sun, 15 Oct 2023) EllapsedTime: 112.3 seconds RetCode: 0 Status: OK PackageFile: getDEE2_1.10.0.tar.gz PackageFileSize: 21.57 KiB