Package: gep2pep Version: 1.20.0 Command: rm -rf gep2pep.buildbin-libdir && mkdir gep2pep.buildbin-libdir && F:\biocbuild\bbs-3.17-bioc\R\bin\R.exe CMD INSTALL --build --library=gep2pep.buildbin-libdir gep2pep_1.20.0.tar.gz StartedAt: 2023-10-16 08:52:22 -0400 (Mon, 16 Oct 2023) EndedAt: 2023-10-16 08:52:43 -0400 (Mon, 16 Oct 2023) EllapsedTime: 21.6 seconds RetCode: 0 Status: OK PackageFile: gep2pep_1.20.0.zip PackageFileSize: 475.1 KiB